BEGIN:VCALENDAR
VERSION:2.0
PRODID:-//Library Market//iCal Export//EN
BEGIN:VEVENT
SUMMARY:Afternoon Mahjong
UID:14409
DTSTAMP:20260420T015600Z
DTSTART:20260605T190000Z
DTEND:20260605T203000Z
LOCATION:Kent Public Library, 17 SybilÃ¢Â€Â™s Crossing, Kent Lakes, NY 105
 12, United States
ROOM: Upstairs Program Room
DESCRIPTION:Looking for a chance to practice and improve your Mahjong? Com
 e to the library on Fridays to meet fellow players and enjoy a few rounds 
 together! Bring your own tiles or borrow one of our sets. Registration is 
 required.Â Please register once and you will be registered for the May-Jun
 e meetings (5/1, 5/15, 5/22, 6/5).Please note: this is a play group onlyâ€
 ”no instruction will be provided.Â ðŸ€„Afternoon Mahjong with instruction 
 is available on 5/8, 5/29, 6/12 and 6/26, please register separately for t
 hese dates.Â 
URL:https://kentpl.librarycalendar.com/event/afternoon-mahjong-14409
END:VEVENT
END:VCALENDAR
