BEGIN:VCALENDAR
VERSION:2.0
PRODID:-//Library Market//iCal Export//EN
BEGIN:VEVENT
SUMMARY:Mahjong for Beginners w/ Instruction
UID:14410
DTSTAMP:20260419T203500Z
DTSTART:20260508T190000Z
DTEND:20260508T203000Z
LOCATION:Kent Public Library, 17 Sybilâs Crossing, Kent Lakes, NY 105
 12, United States
ROOM: Upstairs Program Room
DESCRIPTION:Dana Murry - host of our Introduction to Mahjong classes - 
  is back at the Kent Library for two instructional play sessions on May 8t
 h and 29th! (*Please note that 5/8 and 5/29 are two separate events. Pleas
 e register for the date(s) you plan to attend!) Come play mahjong amidst 
 a relaxed group of fellow-beginners! All levels welcome! No previous expe
 rience necessary!  This event is for adults and seniors. Registration re
 quired. In “Special Notes”, please let us know if you have attended Ma
 hjong with Dana before or if this will be your first time! 🀄An afterno
 on mahjong play group (no instruction provided) is also available on 5/1, 
 5/15, 5/22, and 6/5. Please register separately for these dates. 
URL:https://kentpl.librarycalendar.com/event/mahjong-beginners-w-instructi
 on-14410
END:VEVENT
END:VCALENDAR
