BEGIN:VCALENDAR
VERSION:2.0
PRODID:-//Library Market//iCal Export//EN
BEGIN:VEVENT
SUMMARY:Mahjong for Beginners w/ Instruction
UID:14413
DTSTAMP:20260419T203500Z
DTSTART:20260626T190000Z
DTEND:20260626T203000Z
LOCATION:Kent Public Library, 17 Sybilâs Crossing, Kent Lakes, NY 105
 12, United States
ROOM: Upstairs Program Room
DESCRIPTION:Dana Murry - host of our Introduction to Mahjong classes - 
  is back at the Kent Library for two instructional play sessions on June 1
 2th and 26th! (*Please note that 6/12 and 6/26 are two separate events. Pl
 ease register for the date(s) you plan to attend!) Come play mahjong amid
 st a relaxed group of fellow-beginners! All levels welcome! No previous e
 xperience necessary!  This event is for adults and seniors. Registration
  required. In “Special Notes”, please let us know if you have attended
  Mahjong with Dana before or if this will be your first time! 🀄An afte
 rnoon mahjong play group (no instruction provided) is also available on 6/
 5. Please register separately for this date. 
URL:https://kentpl.librarycalendar.com/event/mahjong-beginners-w-instructi
 on-14413
END:VEVENT
END:VCALENDAR
